BEGIN:VCALENDAR
VERSION:2.0
PRODID:-//Rockerfellas Adventure - ECPv6.15.14//NONSGML v1.0//EN
CALSCALE:GREGORIAN
METHOD:PUBLISH
X-ORIGINAL-URL:https://www.rockerfellasadventure.com
X-WR-CALDESC:Events for Rockerfellas Adventure
REFRESH-INTERVAL;VALUE=DURATION:PT1H
X-Robots-Tag:noindex
X-PUBLISHED-TTL:PT1H
BEGIN:VTIMEZONE
TZID:UTC
BEGIN:STANDARD
TZOFFSETFROM:+0000
TZOFFSETTO:+0000
TZNAME:UTC
DTSTART:20190101T000000
END:STANDARD
END:VTIMEZONE
BEGIN:VEVENT
DTSTART;VALUE=DATE:20200801
DTEND;VALUE=DATE:20200803
DTSTAMP:20260423T002517
CREATED:20200623T151517Z
LAST-MODIFIED:20200623T151517Z
UID:2331-1596240000-1596412799@www.rockerfellasadventure.com
SUMMARY:SNCS Instructor Training Course (ITC) (1 & 2 & 8 Aug)
DESCRIPTION:Group Size: 8pax max\nCost: S$600 per pax\nDBS Current Account: 1200595711\nWhatapp your payment details to Derek 96250587 \nPrerequisite:\nTo be eligible for the registration\, he/she must:\n1. A member of a SMF-affiliated club/association/organisation.\n2. Have a genuine interest in the sport\, and the instruction and supervision of groups for sport and/or rock climbing.\n3. Have at least 12 months’ experience of sport and/or rock climbing and meet the necessary pre-requisite qualifications.\n4. Have attained 18 years of age or older at the date of registration. \nThe SNCS Climbing Instructor Scheme defines the professional training and competence requirements leading to the SNCS Climbing Instructor certifications and is concerned with good practice and high standard of instruction leading to safe enjoyment of the sport of climbing. It is the only national climbing instructor training scheme in Singapore that is endorsed and recognized by the South East Asia Climbing Federation (SEACF)\, Singapore Mountaineering Federation (SMF) and the Singapore Sports Council. \nFor more info\, pls refer to the website below: \nhttp://www.smf.org.sg/?page_id=21538
URL:https://www.rockerfellasadventure.com/event/sncs-instructor-training-course-itc-1-2-8-aug/
LOCATION:The Cliff @ Snow City\, 21 Jurong Town Hall Rd\, Singapore 609433\, Singapore\, 609433\, Singapore
CATEGORIES:Courses & Certifications
ORGANIZER;CN="RockerFellas Adventure":MAILTO:rockerfellasadventures@gmail.com
END:VEVENT
BEGIN:VEVENT
DTSTART;TZID=UTC:20200802T090000
DTEND;TZID=UTC:20200802T170000
DTSTAMP:20260423T002517
CREATED:20200722T165648Z
LAST-MODIFIED:20200722T165648Z
UID:2356-1596358800-1596387600@www.rockerfellasadventure.com
SUMMARY:Singapore National Climbing Standards (SNCS) Level 1 Certification Course (2 Aug)
DESCRIPTION:**Our Sports Climbing Level 1 Certification is certified under Singapore National Climbing Standards (SNCS)** \nBeginners are welcome! \nWhen was the last time you truly challenged yourself or did something adventurous? \nImagine being able to climb to the top of the mountain and be met with just a jaw-dropping panoramic view of the world beneath your feet. \nCome and join us to learn the techniques of climbing. You’ll never imagine how much a difference it would make to your life! \nSports climbing is a multi-dimensional sport from a fitness point of view. It offers a holistic balance between physical exercise and mental discipline. \nSports climbing requires much more than just upper-body strength. It relies on precisely trained intricate footwork\, lower body strength\, and lean muscle mass. Although not often thought of as a common form of cardio\, ascending walls is a sure way to get your heart pumping\, similar to the way climbing stairs or jogging does. A one-hour climb session can burn well over 700 calories! \nOur instructors have been trained according to Singapore Mountaineering Federation standards\, and withhold a high regard for the safety of all participants. After this one-day course\, you will be awarded with a Sport Climbing Level One Certificate\, in accordance with the Singapore National Climbing Standards (SNCS) endorsed by the Singapore Mountaineering Federation. This activity is only open only to those 13 years of age and above. So what are you waiting for? If you can do something great for your body with an extraordinary experience\, try climbing (aka have your cake and eat it too)! Get yourself certified and in no time to come you’ll be able to join us out there on the real rock\, at Batu Caves\, Malaysia! \nSee you there! \n******************************************************\nPlease wear ¾ long pants* \nItems to bring along : \n1. Water\n2. A pair of socks\n3. Towel (Optional)\n4. Extra clothes to change after session (Optional) \nWe have our own climbing community to do weekly climb and abseil so you don’t need to worry that you don’t have kakis after the course! \nSign up here!!!
URL:https://www.rockerfellasadventure.com/event/singapore-national-climbing-standards-sncs-level-1-certification-course-2-aug/
LOCATION:The Cliff @ Snow City\, 21 Jurong Town Hall Rd\, Singapore 609433\, Singapore\, 609433\, Singapore
CATEGORIES:Courses & Certifications
ORGANIZER;CN="RockerFellas Adventure":MAILTO:rockerfellasadventures@gmail.com
END:VEVENT
BEGIN:VEVENT
DTSTART;TZID=UTC:20200808T090000
DTEND;TZID=UTC:20200808T170000
DTSTAMP:20260423T002517
CREATED:20200722T165751Z
LAST-MODIFIED:20200722T165751Z
UID:2358-1596877200-1596906000@www.rockerfellasadventure.com
SUMMARY:Singapore National Climbing Standards (SNCS) Level 1 Certification Course (8 Aug)
DESCRIPTION:**Our Sports Climbing Level 1 Certification is certified under Singapore National Climbing Standards (SNCS)** \nBeginners are welcome! \nWhen was the last time you truly challenged yourself or did something adventurous? \nImagine being able to climb to the top of the mountain and be met with just a jaw-dropping panoramic view of the world beneath your feet. \nCome and join us to learn the techniques of climbing. You’ll never imagine how much a difference it would make to your life! \nSports climbing is a multi-dimensional sport from a fitness point of view. It offers a holistic balance between physical exercise and mental discipline. \nSports climbing requires much more than just upper-body strength. It relies on precisely trained intricate footwork\, lower body strength\, and lean muscle mass. Although not often thought of as a common form of cardio\, ascending walls is a sure way to get your heart pumping\, similar to the way climbing stairs or jogging does. A one-hour climb session can burn well over 700 calories! \nOur instructors have been trained according to Singapore Mountaineering Federation standards\, and withhold a high regard for the safety of all participants. After this one-day course\, you will be awarded with a Sport Climbing Level One Certificate\, in accordance with the Singapore National Climbing Standards (SNCS) endorsed by the Singapore Mountaineering Federation. This activity is only open only to those 13 years of age and above. So what are you waiting for? If you can do something great for your body with an extraordinary experience\, try climbing (aka have your cake and eat it too)! Get yourself certified and in no time to come you’ll be able to join us out there on the real rock\, at Batu Caves\, Malaysia! \nSee you there! \n******************************************************\nPlease wear ¾ long pants* \nItems to bring along : \n1. Water\n2. A pair of socks\n3. Towel (Optional)\n4. Extra clothes to change after session (Optional) \nWe have our own climbing community to do weekly climb and abseil so you don’t need to worry that you don’t have kakis after the course! \nSign up here!!!
URL:https://www.rockerfellasadventure.com/event/singapore-national-climbing-standards-sncs-level-1-certification-course-8-aug/
LOCATION:The Cliff @ Snow City\, 21 Jurong Town Hall Rd\, Singapore 609433\, Singapore\, 609433\, Singapore
CATEGORIES:Courses & Certifications
ORGANIZER;CN="RockerFellas Adventure":MAILTO:rockerfellasadventures@gmail.com
END:VEVENT
BEGIN:VEVENT
DTSTART;TZID=UTC:20200822T090000
DTEND;TZID=UTC:20200823T170000
DTSTAMP:20260423T002517
CREATED:20200623T151819Z
LAST-MODIFIED:20200623T151819Z
UID:2333-1598086800-1598202000@www.rockerfellasadventure.com
SUMMARY:Singapore National Climbing Standards (SNCS) Level 2 Certification Course (22 & 23 Aug)
DESCRIPTION:Come and join us for Sports Climbing Level 2 Certified Course to be an independent climber\, to have a deeper insight to the core aspects of sport climbing. \nYou’ll get to learn how to fall\, and knowing how to do a dynamic belay. \nBenefits\n-Improve fitness\, strength\, coordination\, upper body strength\,core muscles \n-If you love to go for an adventurous hiking or climbing trip\, this is an essential skill to complement you adventure trip. \n-By joining us\, you will have more climbing kakis as you will be invited to our sport climbing community for weekly climbing \nRequirements – Participants need to have acquired Level 1 Sport Climbing certification and basic climbing skills. \n-If you don’t have Level 1 Sport Climbing \, you will need to arrange a climbing session with us to assess(compulsory)your climbing skills and general knowledge on sport climbing. \nSyllabus:\nIntroduction to Lead Climbing\nTop-rope Climbing vs Lead Climbing\nPlacement of protection points\nUnderstanding Fall Factor and Impact Force\nUnderstanding the anchor system on artificial wall\nEquipment Required for Lead Climbing (usage\, care\, limitation) \nDynamic rope vs Static rope\nHarness with gear loops\nQuickdraws (Runners)\nSlings / Tapes (safety slings\, extension as Runners)\nFriction devices – (Fig.8\, Tubular)\nHelmet\nKnots(usage\, limitation\, dressing) \nDouble Figure of 8 knot\nTape knot\nBelaying a Lead Climber using friction devices\nGiving slack & taking-in\nBelaying stance\nArresting a climber’s fall\nDynamic Belaying\nRope handling & management\nLead Climbing & Techniques \nPre-climb checks\nClipping in techniques / prevention & undo “Z” clips\nRunners’ placement/direction\nClimbing on overhangs & roofs\nSafe falling position\nClimbing commands\nTop-out Technique \nPayment Mode :\nPOSB Passbook Savings Account 008-22611-3\nPlease whatsapp your name and payment reference number once you have done so. Feel free to text me at 96250587 for further enquiry \nSIGN UP HERE!!
URL:https://www.rockerfellasadventure.com/event/singapore-national-climbing-standards-sncs-level-2-certification-course-22-23-aug/
LOCATION:The Cliff @ Snow City\, 21 Jurong Town Hall Rd\, Singapore 609433\, Singapore\, 609433\, Singapore
CATEGORIES:Courses & Certifications
ORGANIZER;CN="RockerFellas Adventure":MAILTO:rockerfellasadventures@gmail.com
END:VEVENT
BEGIN:VEVENT
DTSTART;TZID=UTC:20200829T090000
DTEND;TZID=UTC:20200829T170000
DTSTAMP:20260423T002517
CREATED:20200623T152036Z
LAST-MODIFIED:20200623T152036Z
UID:2335-1598691600-1598720400@www.rockerfellasadventure.com
SUMMARY:Singapore National Climbing Standards (SNCS) Level 1 Certification Course (29 Aug)
DESCRIPTION:**Our Sports Climbing Level 1 Certification is certified under Singapore National Climbing Standards (SNCS)** \nBeginners are welcome! \nWhen was the last time you truly challenged yourself or did something adventurous? \nImagine being able to climb to the top of the mountain and be met with just a jaw-dropping panoramic view of the world beneath your feet. \nCome and join us to learn the techniques of climbing. You’ll never imagine how much a difference it would make to your life! \nSports climbing is a multi-dimensional sport from a fitness point of view. It offers a holistic balance between physical exercise and mental discipline. \nSports climbing requires much more than just upper-body strength. It relies on precisely trained intricate footwork\, lower body strength\, and lean muscle mass. Although not often thought of as a common form of cardio\, ascending walls is a sure way to get your heart pumping\, similar to the way climbing stairs or jogging does. A one-hour climb session can burn well over 700 calories! \nOur instructors have been trained according to Singapore Mountaineering Federation standards\, and withhold a high regard for the safety of all participants. After this one-day course\, you will be awarded with a Sport Climbing Level One Certificate\, in accordance with the Singapore National Climbing Standards (SNCS) endorsed by the Singapore Mountaineering Federation. This activity is only open only to those 13 years of age and above. So what are you waiting for? If you can do something great for your body with an extraordinary experience\, try climbing (aka have your cake and eat it too)! Get yourself certified and in no time to come you’ll be able to join us out there on the real rock\, at Batu Caves\, Malaysia! \nSee you there! \n******************************************************\nPlease wear ¾ long pants* \nItems to bring along : \n1. Water\n2. A pair of socks\n3. Towel (Optional)\n4. Extra clothes to change after session (Optional) \nWe have our own climbing community to do weekly climb and abseil so you don’t need to worry that you don’t have kakis after the course! \nSign up here!!!
URL:https://www.rockerfellasadventure.com/event/singapore-national-climbing-standards-sncs-level-1-certification-course-29-aug/
LOCATION:The Cliff @ Snow City\, 21 Jurong Town Hall Rd\, Singapore 609433\, Singapore\, 609433\, Singapore
CATEGORIES:Courses & Certifications
ORGANIZER;CN="RockerFellas Adventure":MAILTO:rockerfellasadventures@gmail.com
END:VEVENT
BEGIN:VEVENT
DTSTART;TZID=UTC:20200830T090000
DTEND;TZID=UTC:20200830T170000
DTSTAMP:20260423T002517
CREATED:20200820T054132Z
LAST-MODIFIED:20200820T054239Z
UID:2361-1598778000-1598806800@www.rockerfellasadventure.com
SUMMARY:Singapore National Climbing Standards (SNCS) Level 1 Certification Course (30 Aug)
DESCRIPTION:**Our Sports Climbing Level 1 Certification is certified under Singapore National Climbing Standards (SNCS)** \nBeginners are welcome! \nWhen was the last time you truly challenged yourself or did something adventurous? \nImagine being able to climb to the top of the mountain and be met with just a jaw-dropping panoramic view of the world beneath your feet. \nCome and join us to learn the techniques of climbing. You’ll never imagine how much a difference it would make to your life! \nSports climbing is a multi-dimensional sport from a fitness point of view. It offers a holistic balance between physical exercise and mental discipline. \nSports climbing requires much more than just upper-body strength. It relies on precisely trained intricate footwork\, lower body strength\, and lean muscle mass. Although not often thought of as a common form of cardio\, ascending walls is a sure way to get your heart pumping\, similar to the way climbing stairs or jogging does. A one-hour climb session can burn well over 700 calories! \nOur instructors have been trained according to Singapore Mountaineering Federation standards\, and withhold a high regard for the safety of all participants. After this one-day course\, you will be awarded with a Sport Climbing Level One Certificate\, in accordance with the Singapore National Climbing Standards (SNCS) endorsed by the Singapore Mountaineering Federation. This activity is only open only to those 13 years of age and above. So what are you waiting for? If you can do something great for your body with an extraordinary experience\, try climbing (aka have your cake and eat it too)! Get yourself certified and in no time to come you’ll be able to join us out there on the real rock\, at Batu Caves\, Malaysia! \nSee you there! \n******************************************************\nPlease wear ¾ long pants* \nItems to bring along : \n1. Water\n2. A pair of socks\n3. Towel (Optional)\n4. Extra clothes to change after session (Optional) \nWe have our own climbing community to do weekly climb and abseil so you don’t need to worry that you don’t have kakis after the course! \nSign up here!!!
URL:https://www.rockerfellasadventure.com/event/singapore-national-climbing-standards-sncs-level-1-certification-course-30-aug/
LOCATION:The Cliff @ Snow City\, 21 Jurong Town Hall Rd\, Singapore 609433\, Singapore\, 609433\, Singapore
CATEGORIES:Courses & Certifications
ORGANIZER;CN="RockerFellas Adventure":MAILTO:rockerfellasadventures@gmail.com
END:VEVENT
END:VCALENDAR