BEGIN:VCALENDAR
VERSION:2.0
PRODID:-//Rockerfellas Adventure - ECPv6.15.14//NONSGML v1.0//EN
CALSCALE:GREGORIAN
METHOD:PUBLISH
X-WR-CALNAME:Rockerfellas Adventure
X-ORIGINAL-URL:https://www.rockerfellasadventure.com
X-WR-CALDESC:Events for Rockerfellas Adventure
REFRESH-INTERVAL;VALUE=DURATION:PT1H
X-Robots-Tag:noindex
X-PUBLISHED-TTL:PT1H
BEGIN:VTIMEZONE
TZID:Asia/Shanghai
BEGIN:STANDARD
TZOFFSETFROM:+0800
TZOFFSETTO:+0800
TZNAME:CST
DTSTART:20160101T000000
END:STANDARD
END:VTIMEZONE
BEGIN:VEVENT
DTSTART;TZID=Asia/Shanghai:20171119T090000
DTEND;TZID=Asia/Shanghai:20171119T160000
DTSTAMP:20260423T081300
CREATED:20171113T090812Z
LAST-MODIFIED:20171113T120043Z
UID:1312-1511082000-1511107200@www.rockerfellasadventure.com
SUMMARY:SINGAPORE NATIONAL CLIMBING STANDARD (SNCS) LEVEL 1 CERTIFICATION COURSE (19 Nov 2017)
DESCRIPTION:Get yourself certified and join us to climb the real mountain at Batu Caves\, Malaysia! \n**Our Sports Climbing Level 1 Certification is certified under Singapore National Climbing Standards (SNCS)** \nBeginners are welcome! \nWhen was the last time you truly challenged yourself or did something adventurous? \nImagine you can climb to the top of the mountain and enjoy the panoramic view of the world\, how would it be for you? \nCome and join us to learn the techniques of climbing and start now to make a difference in your life! \nSports climbing is a multi-dimensional sport from a fitness perspective. It offers a balance between physical exercise and mental discipline. \nSports climbing requires much more than upper-body strength. It trains up your intricate footwork\, lower body strength\, and lean muscle mass. Although not often thought of as a common form of cardio\, ascending walls is a sure way to get your heart pumping\, similar to the way climbing stairs or jogging does. A one-hour climb session can burn well over 700 calories. \nProper training and safety precautions are ensured. After the one day course\, you will be given a level one certificate in accordance with the Singapore National Climbing Standards (SNCS) endorsed by the Singapore Mountaineering Federation. This activity is only open for people who are 13 years old and above. So what are you waiting for? if you can do something great for your body with an extraordinary experience\, try climbing. Get yourself certified and join us to climb the real mountain at Batu Caves\, Malaysia! \nSee you there! \n******************************************************\nPlease wear ¾ long pants* Items to bring along : \n1. Water\n2. Towel (Optional)\n3. Extra clothes to change after shower(Optional) \nNote: Venue is an indoor venue. No worry about raining. \nWe have our own climbing community to do weekly climb and abseil so you don’t need to worry that you don’t have kakis after the course!
URL:https://www.rockerfellasadventure.com/event/singapore-national-climbing-standard-sncs-level-1-certification-course-19-nov-2017/
LOCATION:Gorilla Climbing Gym\, 750B Chai Chee Rd Viva Business Park\, #01-02\, 469002\, Singapore\, Singapore\, 469002
CATEGORIES:Courses & Certifications
ATTACH;FMTTYPE=image/png:https://www.rockerfellasadventure.com/wp-content/uploads/2017/11/22555606_10154998968717014_6625331589607472269_o.png
ORGANIZER;CN="RockerFellas Adventure":MAILTO:rockerfellasadventures@gmail.com
END:VEVENT
END:VCALENDAR