BEGIN:VCALENDAR
VERSION:2.0
PRODID:-//Rockerfellas Adventure - ECPv6.15.14//NONSGML v1.0//EN
CALSCALE:GREGORIAN
METHOD:PUBLISH
X-WR-CALNAME:Rockerfellas Adventure
X-ORIGINAL-URL:https://www.rockerfellasadventure.com
X-WR-CALDESC:Events for Rockerfellas Adventure
REFRESH-INTERVAL;VALUE=DURATION:PT1H
X-Robots-Tag:noindex
X-PUBLISHED-TTL:PT1H
BEGIN:VTIMEZONE
TZID:UTC
BEGIN:STANDARD
TZOFFSETFROM:+0000
TZOFFSETTO:+0000
TZNAME:UTC
DTSTART:20190101T000000
END:STANDARD
END:VTIMEZONE
BEGIN:VEVENT
DTSTART;VALUE=DATE:20200408
DTEND;VALUE=DATE:20200413
DTSTAMP:20260425T113710
CREATED:20190704T095844Z
LAST-MODIFIED:20200302T053256Z
UID:2084-1586304000-1586735999@www.rockerfellasadventure.com
SUMMARY:Krabi Rock Trip
DESCRIPTION:Dates of Travel: 8th April 2020 (Wed) to 12th April 2020 (Sun) \nThis event is organized by Rockerfellas Adventure Pte Ltd\nSTB Travel Agents’ License No. 02861\nLand Tour Price (payable to RockerFellas Adventure Pte Ltd):\nCost : SGD$480.00 Twin Share (not inclusive of airfare)\nRockerfellas DBS Corporate Account : 0179056055 \nMax group size: 10 pax \nTHIS EVENT IS OPENED ONLY TO THOSE WHO HAVE AT LEAST A SPORT CLIMBING LEVEL 1 AND ABOVE\nSingapore National Climbing Standards (SNCS Level 1) \nClimbing: Top Rope and Lead Climbing \n*If you are intending to multipitch\, please ensure that you have SNCS Level 3 certification or can show proof of previous experience at multipitches. Revision lessons may be held prior to trip\, subject to requirements.\nExpected Weather/Temperature: 24°C to 31°C \nHighlights\n1. 3 days of climbing in picturesque Krabi!\n2. Free and easy shopping along Aonang\n3. Enjoy the white sandy beaches\n4. Awesome friendships and bonds – memories are the best thing you can take away from a trip! \nInclusions:\n1. Transfers to and from Krabi Airport\n2. Transfers to Crags and places of interest within Krabi\n3. Climbing Ropes\, Quickdraws\, Guide/Instructor\n4. Dinner on first night and last night\n5. Exclusive RockerFellas Krabi T-shirt \nExclusions:\n1. Air Tickets to and from Krabi**\n2. Travel Visa (if required)\n3. Breakfast\, Lunch\, Dinner (unless otherwise stated)\, Snacks\n4. Expenses for Shopping\, R&R\, Massage\, Night entertainment etc\n5. Climbing Equipment: Helmet\, Climbing Shoes\, Harness\, Belay Device\, Carabiner\, Head Torch\n**If you do not own any of the above items\, please inform Derek prior to the trip so the equipment can be loaned\n6. Travel Insurance (including cover for rock climbing) \nPLEASE BRING OWN CLIMBING SHOES\, HARNESS\, BELAY DEVICE\, AND WATER APPROPRIATE ATTIRE FOR THOSE PARTAKING IN WATER ACTIVITIES \n**Recommended Travel Option (prices correct as of 26 Dec 2018)\nScoot: Singapore to Krabi\nFlight Cost: $281.87 (return tickets\, FLIGHT ONLY\, WITHOUT check-in luggage and other add-ons) \nFlight Details (fares as of 7/6/2018)\n(a) TR 686 : 8 April 2020 – SIN 11:30 to KBV 12:15 (1h 45m)\n(b) TR 687 : 12 April 2020 – KBV 13:05 to SIN 1600 (1h 55m) \n*Please note that should you wish to choose an alternative form of transport to Krabi\, please inform us beforehand so that arrangements can be made for meetup. \nITINERARY \n8th April 2020\, Wed\n0915 : Meet at Changi International Airport\n0930 : Check in for flight \, SIN 11:30 to KBV 12:15 (1h 45m)\n1130 -1215 : Flight from Singapore to Krabi (1h 45m)\nTransfer from Krabi Airport to Aonang via Taxi\nTransfer from Aonang to Railay East (~1.5 hours) via Taxi\nCheck-in to Anyavee Railay Resort\nSip on fresh Coconut Juice\, Pina Coladas or some (cheap!) Beer while enjoying the sunset along Railey Beach – Own cost\nDinner (included) \nRest \n9th April 2020\, Thu\n0800 : Rise and Shine!\n0830 :\nBreakfast (Not included)\nClimb at Princess Caves\nClimb at Esher Wall\nCaving and Abseiling near Thaiwand Wall\nReturn to Anyavee Railay Resort\nDinner (not included) \nRest \n10th April 2020\, Fri\n0800 : Rise and Shine!\n0830 : Breakfast (not included)\nClimb at Fire Wall\nDinner (not included)\ntake boat to Tonsai beach\nClimb ★★★ The Lion King 6c+ and ★★ Beauty and the Beast 6c\, if time permits. \nRest \n11th April 2020\, Sat\n0800 : Rise and shine!\n0830\nBreakfast (not included)\nClimb Diamond Walls\nDinner (included)\nFull body massage; 300 baht/pax(Own Cost) \nRest \n12th April 2020\, Sun\n0800 : Rise and Shine!\n0830 : Breakfast (not included)\n1145-1200 : Check-out from Anyavee Resort\n1200-1300 : Travel from Railey East to Jetty\n1300-1345 : Travel from jetty to Krabi Airport via mini van\n1345 : Check in to Krabi Airport\n1400 : Lunch at Airport (not included)\n1540-1840 : KBV 15:40 to SIN 18:40 (2h 5m) \nHOME SWEET HOME! \nSign up HERE!!\nNotes\nSequence of itinerary is subject to change without prior notice.\nIn the event of inclement weather\, unfortunately we are unable to refund the cost of not being able to climb on that particular day. We will do our best to replace with sightseeing or other wet weather contingency plans. We seek your kind understanding on our inability to control Mother Nature’s intentions.\nAll rooms are twin-sharing – kindly indicate your preference. Single room is subject to availability and additional costs would apply.\nPlease ensure that your passport validity is AT LEAST 6 months from date of departure from Thailand (not date of departure from Singapore).\nIt is your responsibility to check if a travel visa is necessary for your nationality to travel to Thailand. All Singaporean passport holders DO NOT require a travel visa to Thailand. \nDeclaration Form\nI acknowledge that there are significant elements of risk associated with the sport of rock climbing\, bouldering\, fitness training regimes\, and other similar activities provided by RockerFellas Adventure Pte Ltd. I further acknowledge the nature and extent of the risks inherent in climbing\, including but not limited to injuries and death resulting from falling and crashing into the walls or other obstacles\, falling climbers or dropped items\, rope abrasions\, entanglement\, equipment failures\, and injuries and death resulting from not following proper and customary safety procedures or from the negligence of other climbers\, and participants. I acknowledge that the risks listed here are not inclusive of all possible risks associated with the activity and that there are other unknown and unanticipated risks that may result in injury\, illness or death. In consideration of\, and in recognition of the inherent risks associated with the activity\, I agree\, on behalf of myself\, my/our heirs\, representatives\, successors\, executors\, administrators and assigns\, to hereby release\, waive\, discharge and agree not to sue the instructors\, and company\, on account of any personal injury\, property damage\, death or accident of any kind\, arising out of or in any way connected with the activity\, and I agree to indemnify and hold harmless the persons or entities mentioned in this paragraph from any and all liabilities or claims made by other individuals or entities as a result of my actions. I declare that all information given in this form is true and correct to the best of my knowledge and belief and note that the data collected above will only be used by RockerFellas Adventure Pte Ltd in accordance with their Personal Data Protection Policies.
URL:https://www.rockerfellasadventure.com/event/krabi-rock-trip-2/
LOCATION:Krabi\, Krabi\, Thailand
CATEGORIES:Overseas Trips
ORGANIZER;CN="RockerFellas Adventure":MAILTO:rockerfellasadventures@gmail.com
END:VEVENT
END:VCALENDAR